BEGIN:VCALENDAR
VERSION:2.0
PRODID:-//eventon.com NONSGML v1.0//EN
CALSCALE:GREGORIAN
METHOD:PUBLISH
BEGIN:VEVENT
UID:69e74e8f5c04b
DTSTAMP:20260421T101647Z
DTSTART:20230615T140900Z
DTEND:20230615T180900Z
LOCATION:
SUMMARY:test event
DESCRIPTION:ddad\nhttps://www.donordrive4dorothy.org/events/test-event/
URL:https://www.donordrive4dorothy.org/events/test-event/
END:VEVENT
END:VCALENDAR